BEGIN:VCALENDAR
VERSION:2.0
PRODID:-//bradshaw.cloud//EN
CALSCALE:GREGORIAN
METHOD:PUBLISH
BEGIN:VEVENT
DTSTAMP:20260423T142433Z
DTSTART;VALUE=DATE:20260610
DTEND;VALUE=DATE:20260612
SUMMARY:Applied AI in Practice: Deploying Tools Inside Real Client Workflow
 s
LOCATION:Tobacco Dock\, London\, United Kingdom
URL:https://london.theaisummit.com/
UID:ai-summit-london-2026@bradshaw.cloud
END:VEVENT
END:VCALENDAR