BEGIN:VCALENDAR
VERSION:2.0
PRODID:-//bradshaw.cloud//EN
CALSCALE:GREGORIAN
METHOD:PUBLISH
BEGIN:VEVENT
DTSTAMP:20260421T195444Z
DTSTART;VALUE=DATE:20251001
DTEND;VALUE=DATE:20251002
SUMMARY:Cloud Innovation: Powering Next-gen Apps
DESCRIPTION:As cloud technologies mature\, we're witnessing a fundamental s
 hift in how organizations approach application development and infrastruct
 ure management. Covering key trends driving this transformation\,
LOCATION:Theatre of Digital Arts\, Dubai\, United Arab Emirates
URL:https://akamai.networkfirstme.com
UID:akamai-world-tour-dubai-2025@bradshaw.cloud
END:VEVENT
END:VCALENDAR