BEGIN:VCALENDAR
VERSION:2.0
PRODID:-//bradshaw.cloud//EN
CALSCALE:GREGORIAN
METHOD:PUBLISH
BEGIN:VEVENT
DTSTAMP:20260421T195444Z
DTSTART;VALUE=DATE:20250528
DTEND;VALUE=DATE:20250529
SUMMARY:Economic Sovereignty: From Cloud Chaos to Cost Control
DESCRIPTION:Cloud adoption often traps businesses—especially in retail\, 
 travel\, media\, and gaming—in "cloud chaos" that creates runaway costs 
 and erodes margins due to hidden drains like vendor lock-in and high d
LOCATION:Scandic Hafenpark\, Frankfurt am Main\, Germany
URL:https://www.cloudnativeconference.de/rueckblick-2025
UID:cloud-native-conference-2025@bradshaw.cloud
END:VEVENT
END:VCALENDAR