BEGIN:VCALENDAR
VERSION:2.0
PRODID:-//bradshaw.cloud//EN
CALSCALE:GREGORIAN
METHOD:PUBLISH
BEGIN:VEVENT
DTSTAMP:20260421T195444Z
DTSTART;VALUE=DATE:20230523
DTEND;VALUE=DATE:20230524
SUMMARY:Cloudflare and WPP
DESCRIPTION:Customer keynote discussing how WPP recovered from a major secu
 rity event\, delivered after Cloudflare CEO Matthew Prince's opening keyno
 te. 
LOCATION:London\, United Kingdom
UID:cloudflare-connect-2023@bradshaw.cloud
END:VEVENT
END:VCALENDAR