BEGIN:VCALENDAR
VERSION:2.0
PRODID:-//bradshaw.cloud//EN
CALSCALE:GREGORIAN
METHOD:PUBLISH
BEGIN:VEVENT
DTSTAMP:20260423T142433Z
DTSTART;VALUE=DATE:20260506
DTEND;VALUE=DATE:20260508
SUMMARY:Debate: Cloud\, on-prem and everything in between – Can enterpris
 es keep control?
LOCATION:Palacio Municipal | IFEMA MADRID\, Madrid\, Spain
URL:https://www.datacenterdynamics.com/es/dcd-connect-live/south-europe/202
 6/debate-cloud-on-prem-and-everything-in-between-can-enterprises-keep-cont
 rol-307/
UID:dcd-connect-live-south-europe-2026@bradshaw.cloud
END:VEVENT
END:VCALENDAR