BEGIN:VCALENDAR
VERSION:2.0
PRODID:-//bradshaw.cloud//EN
CALSCALE:GREGORIAN
METHOD:PUBLISH
BEGIN:VEVENT
DTSTAMP:20260421T195444Z
DTSTART;VALUE=DATE:20250312
DTEND;VALUE=DATE:20250314
SUMMARY:Cloud Native Technologies for Media
LOCATION:Cologne\, Germany
URL:https://www.thedpp.com/events/european-broadcaster-summit-2025
UID:dpp-european-broadcaster-summit-2025@bradshaw.cloud
END:VEVENT
END:VCALENDAR