BEGIN:VCALENDAR
VERSION:2.0
PRODID:-//bradshaw.cloud//EN
CALSCALE:GREGORIAN
METHOD:PUBLISH
BEGIN:VEVENT
DTSTAMP:20260421T195444Z
DTSTART;VALUE=DATE:20260311
DTEND;VALUE=DATE:20260313
SUMMARY:From Content Wars to Experience Wars
LOCATION:Paris\, France
URL:https://www.thedpp.com/events/european-broadcaster-summit-2026/
UID:dpp-european-broadcaster-summit-2026@bradshaw.cloud
END:VEVENT
END:VCALENDAR