BEGIN:VCALENDAR
VERSION:2.0
PRODID:-//bradshaw.cloud//EN
CALSCALE:GREGORIAN
METHOD:PUBLISH
BEGIN:VEVENT
DTSTAMP:20260421T195444Z
DTSTART;VALUE=DATE:20251118
DTEND;VALUE=DATE:20251120
SUMMARY:Cloud for Media 2025: What the latest data tells us
LOCATION:London\, United Kingdom
URL:https://www.thedpp.com/events/leaders-briefing-2025
UID:dpp-leaders-briefing-2025@bradshaw.cloud
END:VEVENT
END:VCALENDAR