BEGIN:VCALENDAR
VERSION:2.0
PRODID:-//bradshaw.cloud//EN
CALSCALE:GREGORIAN
METHOD:PUBLISH
BEGIN:VEVENT
DTSTAMP:20260421T195444Z
DTSTART;VALUE=DATE:20260121
DTEND;VALUE=DATE:20260122
SUMMARY:Tech Trends
LOCATION:London\, United Kingdom
URL:https://www.thedpp.com/events/tech-trends-breakfast-briefing-2026
UID:dpp-tech-trends-2026@bradshaw.cloud
END:VEVENT
END:VCALENDAR