BEGIN:VCALENDAR
VERSION:2.0
PRODID:-//bradshaw.cloud//EN
CALSCALE:GREGORIAN
METHOD:PUBLISH
BEGIN:VEVENT
DTSTAMP:20260421T195444Z
DTSTART;VALUE=DATE:20250909
DTEND;VALUE=DATE:20250910
SUMMARY:How is AI Impacting Organisations — Ethics\, Principles\, Data Go
 vernance\, IT and Talent?
DESCRIPTION:Panel discussion exploring how AI is reshaping the enterprise l
 andscape\, covering ethics\, principles\, data governance\, IT transformat
 ion\, and talent strategy. 
LOCATION:Atlantis The Royal\, Dubai\, United Arab Emirates
UID:du-tech-envision-2025@bradshaw.cloud
END:VEVENT
END:VCALENDAR