BEGIN:VCALENDAR
VERSION:2.0
PRODID:-//bradshaw.cloud//EN
CALSCALE:GREGORIAN
METHOD:PUBLISH
BEGIN:VEVENT
DTSTAMP:20260423T142433Z
DTSTART;VALUE=DATE:20260607
DTEND;VALUE=DATE:20260610
SUMMARY:TBC
LOCATION:Las Arenas Balneario Resort\, Getxo\, Spain
URL:https://event.idc.com/event/ai-data-xchange/
UID:idc-ai-data-xchange-2026@bradshaw.cloud
END:VEVENT
END:VCALENDAR