BEGIN:VCALENDAR
VERSION:2.0
PRODID:-//bradshaw.cloud//EN
CALSCALE:GREGORIAN
METHOD:PUBLISH
BEGIN:VEVENT
DTSTAMP:20260421T195444Z
DTSTART;VALUE=DATE:20251106
DTEND;VALUE=DATE:20251107
SUMMARY:Architecting the Agentic Web
LOCATION:London\, United Kingdom
URL:https://event.idc.com/event/futuretech-summit-germany/2025-edition/
UID:idc-futuretech-summit-germany-2025@bradshaw.cloud
END:VEVENT
END:VCALENDAR