BEGIN:VCALENDAR
VERSION:2.0
PRODID:-//bradshaw.cloud//EN
CALSCALE:GREGORIAN
METHOD:PUBLISH
BEGIN:VEVENT
DTSTAMP:20260421T195444Z
DTSTART;VALUE=DATE:20250911
DTEND;VALUE=DATE:20250912
SUMMARY:API Security Made Simple
DESCRIPTION:How businesses can safeguard innovation without slowing it down
 \, covering practical approaches to API security in a world of rapid digit
 al transformation. 
LOCATION:Grand Hyatt Abu Dhabi\, Abu Dhabi\, United Arab Emirates
URL:https://www.rnstechnology.com/cyber-defense-roadshow-abu-dhabi-2/
UID:rns-cyber-defense-roadshow-abu-dhabi-2025@bradshaw.cloud
END:VEVENT
END:VCALENDAR