BEGIN:VCALENDAR
VERSION:2.0
PRODID:-//bradshaw.cloud//EN
CALSCALE:GREGORIAN
METHOD:PUBLISH
BEGIN:VEVENT
DTSTAMP:20260421T195444Z
DTSTART;VALUE=DATE:20250916
DTEND;VALUE=DATE:20250917
SUMMARY:API Security Made Simple
LOCATION:Taj Dubai\, Dubai\, United Arab Emirates
URL:https://www.rnstechnology.com/cyber-defense-roadshow-dubai/
UID:rns-cyber-defense-roadshow-dubai-2025@bradshaw.cloud
END:VEVENT
END:VCALENDAR