BEGIN:VCALENDAR
VERSION:2.0
PRODID:-//bradshaw.cloud//EN
CALSCALE:GREGORIAN
METHOD:PUBLISH
BEGIN:VEVENT
DTSTAMP:20260421T195444Z
DTSTART;VALUE=DATE:20260326
DTEND;VALUE=DATE:20260327
SUMMARY:Connectivity\, CDNs & network edge – powering real-time digital s
 olutions
LOCATION:techUK\, 10 St Bride Street\, London\, United Kingdom
URL:https://www.techuk.org/what-we-deliver/events/digital-transformation-fr
 om-the-edge-to-the-cloud.html
UID:techuk-digital-transformation-edge-cloud-2026@bradshaw.cloud
END:VEVENT
END:VCALENDAR