BEGIN:VCALENDAR
VERSION:2.0
PRODID:-//bradshaw.cloud//EN
CALSCALE:GREGORIAN
METHOD:PUBLISH
BEGIN:VEVENT
DTSTAMP:20260421T195444Z
DTSTART;VALUE=DATE:20250709
DTEND;VALUE=DATE:20250712
SUMMARY:The Cloud Cost Trap
LOCATION:Messe Berlin\, Berlin\, Germany
URL:https://www.wearedevelopers.com/world-congress
UID:wearedevelopers-world-congress-2025@bradshaw.cloud
END:VEVENT
END:VCALENDAR